BEGIN:VCALENDAR
VERSION:2.0
PRODID:-//EFG Sonneberg - ECPv6.15.13.1//NONSGML v1.0//EN
CALSCALE:GREGORIAN
METHOD:PUBLISH
X-ORIGINAL-URL:https://efg-sonneberg.de
X-WR-CALDESC:Veranstaltungen für EFG Sonneberg
REFRESH-INTERVAL;VALUE=DURATION:PT1H
X-Robots-Tag:noindex
X-PUBLISHED-TTL:PT1H
BEGIN:VTIMEZONE
TZID:Europe/Berlin
BEGIN:DAYLIGHT
TZOFFSETFROM:+0100
TZOFFSETTO:+0200
TZNAME:CEST
DTSTART:20240331T010000
END:DAYLIGHT
BEGIN:STANDARD
TZOFFSETFROM:+0200
TZOFFSETTO:+0100
TZNAME:CET
DTSTART:20241027T010000
END:STANDARD
BEGIN:DAYLIGHT
TZOFFSETFROM:+0100
TZOFFSETTO:+0200
TZNAME:CEST
DTSTART:20250330T010000
END:DAYLIGHT
BEGIN:STANDARD
TZOFFSETFROM:+0200
TZOFFSETTO:+0100
TZNAME:CET
DTSTART:20251026T010000
END:STANDARD
BEGIN:DAYLIGHT
TZOFFSETFROM:+0100
TZOFFSETTO:+0200
TZNAME:CEST
DTSTART:20260329T010000
END:DAYLIGHT
BEGIN:STANDARD
TZOFFSETFROM:+0200
TZOFFSETTO:+0100
TZNAME:CET
DTSTART:20261025T010000
END:STANDARD
END:VTIMEZONE
BEGIN:VEVENT
DTSTART;TZID=Europe/Berlin:20251005T100000
DTEND;TZID=Europe/Berlin:20251005T113000
DTSTAMP:20260426T055309
CREATED:20250528T145644Z
LAST-MODIFIED:20251001T171908Z
UID:2834-1759658400-1759663800@efg-sonneberg.de
SUMMARY:Ernte-Dank-Godi mit Andi
DESCRIPTION:Herzliche Einladung
URL:https://efg-sonneberg.de/event/gottesdienst-mit-andi-ziepert/
LOCATION:EFG Sonneberg\, Marienstraße 9\, Sonneberg\, Thüringen\, 96515\, Germany
ATTACH;FMTTYPE=image/jpeg:https://efg-sonneberg.de/wp-content/uploads/2025/10/g7bbd9c7d0cf2b4814215a92e24492f416ed4fc25ba17f4914b84d4a6c5b667e8e2ab526aedc1c81fec41d7be9457b87a465a62e816fede6c52c1baa46f0e2852_1280-8100732.jpg
END:VEVENT
END:VCALENDAR