BEGIN:VCALENDAR
VERSION:2.0
PRODID:-//EFG Sonneberg - ECPv6.15.13.1//NONSGML v1.0//EN
CALSCALE:GREGORIAN
METHOD:PUBLISH
X-ORIGINAL-URL:https://efg-sonneberg.de
X-WR-CALDESC:Veranstaltungen für EFG Sonneberg
REFRESH-INTERVAL;VALUE=DURATION:PT1H
X-Robots-Tag:noindex
X-PUBLISHED-TTL:PT1H
BEGIN:VTIMEZONE
TZID:Europe/Berlin
BEGIN:DAYLIGHT
TZOFFSETFROM:+0100
TZOFFSETTO:+0200
TZNAME:CEST
DTSTART:20240331T010000
END:DAYLIGHT
BEGIN:STANDARD
TZOFFSETFROM:+0200
TZOFFSETTO:+0100
TZNAME:CET
DTSTART:20241027T010000
END:STANDARD
BEGIN:DAYLIGHT
TZOFFSETFROM:+0100
TZOFFSETTO:+0200
TZNAME:CEST
DTSTART:20250330T010000
END:DAYLIGHT
BEGIN:STANDARD
TZOFFSETFROM:+0200
TZOFFSETTO:+0100
TZNAME:CET
DTSTART:20251026T010000
END:STANDARD
BEGIN:DAYLIGHT
TZOFFSETFROM:+0100
TZOFFSETTO:+0200
TZNAME:CEST
DTSTART:20260329T010000
END:DAYLIGHT
BEGIN:STANDARD
TZOFFSETFROM:+0200
TZOFFSETTO:+0100
TZNAME:CET
DTSTART:20261025T010000
END:STANDARD
END:VTIMEZONE
BEGIN:VEVENT
DTSTART;TZID=Europe/Berlin:20251019T100000
DTEND;TZID=Europe/Berlin:20251019T113000
DTSTAMP:20260426T055309
CREATED:20241003T070544Z
LAST-MODIFIED:20251001T172121Z
UID:2347-1760868000-1760873400@efg-sonneberg.de
SUMMARY:Gottesdienst mit Andy Ziebert
DESCRIPTION:Godi mit Andy Ziepert
URL:https://efg-sonneberg.de/event/gottesdienst-mit-andy-ziebert/
LOCATION:EFG Sonneberg\, Marienstraße 9\, Sonneberg\, Thüringen\, 96515\, Germany
ATTACH;FMTTYPE=image/jpeg:https://efg-sonneberg.de/wp-content/uploads/2025/01/IMG_0183.jpeg
END:VEVENT
END:VCALENDAR