BEGIN:VCALENDAR
VERSION:2.0
PRODID:-//EFG Sonneberg - ECPv6.15.13.1//NONSGML v1.0//EN
CALSCALE:GREGORIAN
METHOD:PUBLISH
X-ORIGINAL-URL:https://efg-sonneberg.de
X-WR-CALDESC:Veranstaltungen für EFG Sonneberg
REFRESH-INTERVAL;VALUE=DURATION:PT1H
X-Robots-Tag:noindex
X-PUBLISHED-TTL:PT1H
BEGIN:VTIMEZONE
TZID:Europe/Berlin
BEGIN:DAYLIGHT
TZOFFSETFROM:+0100
TZOFFSETTO:+0200
TZNAME:CEST
DTSTART:20240331T010000
END:DAYLIGHT
BEGIN:STANDARD
TZOFFSETFROM:+0200
TZOFFSETTO:+0100
TZNAME:CET
DTSTART:20241027T010000
END:STANDARD
BEGIN:DAYLIGHT
TZOFFSETFROM:+0100
TZOFFSETTO:+0200
TZNAME:CEST
DTSTART:20250330T010000
END:DAYLIGHT
BEGIN:STANDARD
TZOFFSETFROM:+0200
TZOFFSETTO:+0100
TZNAME:CET
DTSTART:20251026T010000
END:STANDARD
BEGIN:DAYLIGHT
TZOFFSETFROM:+0100
TZOFFSETTO:+0200
TZNAME:CEST
DTSTART:20260329T010000
END:DAYLIGHT
BEGIN:STANDARD
TZOFFSETFROM:+0200
TZOFFSETTO:+0100
TZNAME:CET
DTSTART:20261025T010000
END:STANDARD
END:VTIMEZONE
BEGIN:VEVENT
DTSTART;TZID=Europe/Berlin:20251221T150000
DTEND;TZID=Europe/Berlin:20251221T163000
DTSTAMP:20260426T022313
CREATED:20241116T193442Z
LAST-MODIFIED:20251201T143445Z
UID:2442-1766329200-1766334600@efg-sonneberg.de
SUMMARY:KINDERWEIHNACHT
DESCRIPTION:Feier mit uns „JESUS“
URL:https://efg-sonneberg.de/event/kinderweihnacht/
LOCATION:EFG Sonneberg\, Marienstraße 9\, Sonneberg\, Thüringen\, 96515\, Germany
ATTACH;FMTTYPE=image/jpeg:https://efg-sonneberg.de/wp-content/uploads/2024/11/2B45990A-A041-45D0-B9F9-DAACF55A5642.jpeg
END:VEVENT
END:VCALENDAR