BEGIN:VCALENDAR
VERSION:2.0
PRODID:-//EFG Sonneberg - ECPv6.15.13.1//NONSGML v1.0//EN
CALSCALE:GREGORIAN
METHOD:PUBLISH
X-WR-CALNAME:EFG Sonneberg
X-ORIGINAL-URL:https://efg-sonneberg.de
X-WR-CALDESC:Veranstaltungen für EFG Sonneberg
REFRESH-INTERVAL;VALUE=DURATION:PT1H
X-Robots-Tag:noindex
X-PUBLISHED-TTL:PT1H
BEGIN:VTIMEZONE
TZID:Europe/Berlin
BEGIN:DAYLIGHT
TZOFFSETFROM:+0100
TZOFFSETTO:+0200
TZNAME:CEST
DTSTART:20250330T010000
END:DAYLIGHT
BEGIN:STANDARD
TZOFFSETFROM:+0200
TZOFFSETTO:+0100
TZNAME:CET
DTSTART:20251026T010000
END:STANDARD
BEGIN:DAYLIGHT
TZOFFSETFROM:+0100
TZOFFSETTO:+0200
TZNAME:CEST
DTSTART:20260329T010000
END:DAYLIGHT
BEGIN:STANDARD
TZOFFSETFROM:+0200
TZOFFSETTO:+0100
TZNAME:CET
DTSTART:20261025T010000
END:STANDARD
BEGIN:DAYLIGHT
TZOFFSETFROM:+0100
TZOFFSETTO:+0200
TZNAME:CEST
DTSTART:20270328T010000
END:DAYLIGHT
BEGIN:STANDARD
TZOFFSETFROM:+0200
TZOFFSETTO:+0100
TZNAME:CET
DTSTART:20271031T010000
END:STANDARD
END:VTIMEZONE
BEGIN:VEVENT
DTSTART;TZID=Europe/Berlin:20260405T093000
DTEND;TZID=Europe/Berlin:20260405T113000
DTSTAMP:20260425T204549
CREATED:20241002T122832Z
LAST-MODIFIED:20260314T061720Z
UID:2322-1775381400-1775388600@efg-sonneberg.de
SUMMARY:FAMILY-GoDI mit Brunch
DESCRIPTION:Gottesdienst mit Kindersegnug -Herzliche Einladung
URL:https://efg-sonneberg.de/event/gottesdienst-mit-anschliessender-gemeindestunde/
CATEGORIES:Gottesdienste
ATTACH;FMTTYPE=image/jpeg:https://efg-sonneberg.de/wp-content/uploads/2025/03/IMG_0433.jpeg
ORGANIZER;CN="EFG Sonneberg":MAILTO:info@efg-sonneberg.de
END:VEVENT
END:VCALENDAR