BEGIN:VCALENDAR
VERSION:2.0
PRODID:-//EFG Sonneberg - ECPv6.15.13.1//NONSGML v1.0//EN
CALSCALE:GREGORIAN
METHOD:PUBLISH
X-ORIGINAL-URL:https://efg-sonneberg.de
X-WR-CALDESC:Veranstaltungen für EFG Sonneberg
REFRESH-INTERVAL;VALUE=DURATION:PT1H
X-Robots-Tag:noindex
X-PUBLISHED-TTL:PT1H
BEGIN:VTIMEZONE
TZID:Europe/Berlin
BEGIN:DAYLIGHT
TZOFFSETFROM:+0100
TZOFFSETTO:+0200
TZNAME:CEST
DTSTART:20240331T010000
END:DAYLIGHT
BEGIN:STANDARD
TZOFFSETFROM:+0200
TZOFFSETTO:+0100
TZNAME:CET
DTSTART:20241027T010000
END:STANDARD
BEGIN:DAYLIGHT
TZOFFSETFROM:+0100
TZOFFSETTO:+0200
TZNAME:CEST
DTSTART:20250330T010000
END:DAYLIGHT
BEGIN:STANDARD
TZOFFSETFROM:+0200
TZOFFSETTO:+0100
TZNAME:CET
DTSTART:20251026T010000
END:STANDARD
BEGIN:DAYLIGHT
TZOFFSETFROM:+0100
TZOFFSETTO:+0200
TZNAME:CEST
DTSTART:20260329T010000
END:DAYLIGHT
BEGIN:STANDARD
TZOFFSETFROM:+0200
TZOFFSETTO:+0100
TZNAME:CET
DTSTART:20261025T010000
END:STANDARD
END:VTIMEZONE
BEGIN:VEVENT
DTSTART;TZID=Europe/Berlin:20251207T100000
DTEND;TZID=Europe/Berlin:20251207T113000
DTSTAMP:20260426T004155
CREATED:20250110T130711Z
LAST-MODIFIED:20250528T144530Z
UID:2652-1765101600-1765107000@efg-sonneberg.de
SUMMARY:GODI- mit Adrian Steffes von AVC
DESCRIPTION:Herzliche Einladung ( CHRISTEN \, DIE VERFOLGT WERDEN )
URL:https://efg-sonneberg.de/event/godi-mit-andy-fey-2/
LOCATION:EFG Sonneberg\, Marienstraße 9\, Sonneberg\, Thüringen\, 96515\, Germany
ATTACH;FMTTYPE=image/jpeg:https://efg-sonneberg.de/wp-content/uploads/2025/01/IMG_0222.jpeg
END:VEVENT
BEGIN:VEVENT
DTSTART;TZID=Europe/Berlin:20251221T150000
DTEND;TZID=Europe/Berlin:20251221T163000
DTSTAMP:20260426T004155
CREATED:20241116T193442Z
LAST-MODIFIED:20251201T143445Z
UID:2442-1766329200-1766334600@efg-sonneberg.de
SUMMARY:KINDERWEIHNACHT
DESCRIPTION:Feier mit uns „JESUS“
URL:https://efg-sonneberg.de/event/kinderweihnacht/
LOCATION:EFG Sonneberg\, Marienstraße 9\, Sonneberg\, Thüringen\, 96515\, Germany
ATTACH;FMTTYPE=image/jpeg:https://efg-sonneberg.de/wp-content/uploads/2024/11/2B45990A-A041-45D0-B9F9-DAACF55A5642.jpeg
END:VEVENT
BEGIN:VEVENT
DTSTART;TZID=Europe/Berlin:20251224T160000
DTEND;TZID=Europe/Berlin:20251224T170000
DTSTAMP:20260426T004155
CREATED:20241107T220713Z
LAST-MODIFIED:20251201T142950Z
UID:2426-1766592000-1766595600@efg-sonneberg.de
SUMMARY:HEILIGABEND „JESHUA LEBT“ mit Andy Fey
DESCRIPTION:Nimm dir die Zeit 👍
URL:https://efg-sonneberg.de/event/heiligabend-jeshua-lebt-mit-andy-fey/
LOCATION:EFG Sonneberg\, Marienstraße 9\, Sonneberg\, Thüringen\, 96515\, Germany
ATTACH;FMTTYPE=image/jpeg:https://efg-sonneberg.de/wp-content/uploads/2024/11/IMG_0941.jpeg
END:VEVENT
BEGIN:VEVENT
DTSTART;TZID=Europe/Berlin:20251228T100000
DTEND;TZID=Europe/Berlin:20251228T113000
DTSTAMP:20260426T004155
CREATED:20251201T143954Z
LAST-MODIFIED:20251201T143955Z
UID:2920-1766916000-1766921400@efg-sonneberg.de
SUMMARY:JAHRES ABSCHLUSS GODI-DANKE JESUS
DESCRIPTION:Wir sagen DANKE
URL:https://efg-sonneberg.de/event/jahres-abschluss-godi-danke-jesus/
LOCATION:EFG Sonneberg\, Marienstraße 9\, Sonneberg\, Thüringen\, 96515\, Germany
ATTACH;FMTTYPE=image/jpeg:https://efg-sonneberg.de/wp-content/uploads/2025/03/IMG_0434.jpeg
END:VEVENT
END:VCALENDAR