BEGIN:VCALENDAR
VERSION:2.0
PRODID:-//EFG Sonneberg - ECPv6.15.13.1//NONSGML v1.0//EN
CALSCALE:GREGORIAN
METHOD:PUBLISH
X-ORIGINAL-URL:https://efg-sonneberg.de
X-WR-CALDESC:Veranstaltungen für EFG Sonneberg
REFRESH-INTERVAL;VALUE=DURATION:PT1H
X-Robots-Tag:noindex
X-PUBLISHED-TTL:PT1H
BEGIN:VTIMEZONE
TZID:Europe/Berlin
BEGIN:DAYLIGHT
TZOFFSETFROM:+0100
TZOFFSETTO:+0200
TZNAME:CEST
DTSTART:20250330T010000
END:DAYLIGHT
BEGIN:STANDARD
TZOFFSETFROM:+0200
TZOFFSETTO:+0100
TZNAME:CET
DTSTART:20251026T010000
END:STANDARD
BEGIN:DAYLIGHT
TZOFFSETFROM:+0100
TZOFFSETTO:+0200
TZNAME:CEST
DTSTART:20260329T010000
END:DAYLIGHT
BEGIN:STANDARD
TZOFFSETFROM:+0200
TZOFFSETTO:+0100
TZNAME:CET
DTSTART:20261025T010000
END:STANDARD
BEGIN:DAYLIGHT
TZOFFSETFROM:+0100
TZOFFSETTO:+0200
TZNAME:CEST
DTSTART:20270328T010000
END:DAYLIGHT
BEGIN:STANDARD
TZOFFSETFROM:+0200
TZOFFSETTO:+0100
TZNAME:CET
DTSTART:20271031T010000
END:STANDARD
END:VTIMEZONE
BEGIN:VEVENT
DTSTART;TZID=Europe/Berlin:20260215T100000
DTEND;TZID=Europe/Berlin:20260215T113000
DTSTAMP:20260425T210348
CREATED:20250303T135843Z
LAST-MODIFIED:20260106T141509Z
UID:2737-1771149600-1771155000@efg-sonneberg.de
SUMMARY:GOTTESDIENST MIT BIRGIT SEILER
DESCRIPTION:Herzliche Einladung
URL:https://efg-sonneberg.de/event/gottesdienst-mit-birgit-seiler-3/
LOCATION:EFG Sonneberg\, Marienstraße 9\, Sonneberg\, Thüringen\, 96515\, Germany
ATTACH;FMTTYPE=image/png:https://efg-sonneberg.de/wp-content/uploads/2025/03/cropped-EFG-Logo-e1741980208482-1.png
END:VEVENT
BEGIN:VEVENT
DTSTART;TZID=Europe/Berlin:20260222T100000
DTEND;TZID=Europe/Berlin:20260222T113000
DTSTAMP:20260425T210348
CREATED:20241107T214512Z
LAST-MODIFIED:20260211T103826Z
UID:2413-1771754400-1771759800@efg-sonneberg.de
SUMMARY:Gottesdiest
DESCRIPTION:herzliche Einladung
URL:https://efg-sonneberg.de/event/abendmal-gottesdienst-mit-andy-fey/
LOCATION:EFG Sonneberg\, Marienstraße 9\, Sonneberg\, Thüringen\, 96515\, Germany
ATTACH;FMTTYPE=image/jpeg:https://efg-sonneberg.de/wp-content/uploads/2025/01/IMG_0130-scaled.jpeg
END:VEVENT
BEGIN:VEVENT
DTSTART;TZID=Europe/Berlin:20260227T193000
DTEND;TZID=Europe/Berlin:20260227T210000
DTSTAMP:20260425T210348
CREATED:20250203T105524Z
LAST-MODIFIED:20260211T103610Z
UID:2694-1772220600-1772226000@efg-sonneberg.de
SUMMARY:KINO-ABEND
DESCRIPTION:Jeder kann kommen.    sehen und knappern
URL:https://efg-sonneberg.de/event/kino-abend/
LOCATION:EFG Sonneberg\, Marienstraße 9\, Sonneberg\, Thüringen\, 96515\, Germany
ATTACH;FMTTYPE=image/jpeg:https://efg-sonneberg.de/wp-content/uploads/2024/06/g5a05359405aa38ace9b02a8401b4ce5650bd431ec3052cb417335c74af307873a698877f8edca31f155aed1e07860ffb1e1a2c7e0ed8bf8a2e4e6b4fbbf51fd9_1280-7698942.jpg
END:VEVENT
END:VCALENDAR